BEGIN:VCALENDAR
VERSION:2.0
PRODID:-//Hotel Cassadaga - ECPv6.14.0//NONSGML v1.0//EN
CALSCALE:GREGORIAN
METHOD:PUBLISH
X-WR-CALNAME:Hotel Cassadaga
X-ORIGINAL-URL:https://hotelcassadaga.com
X-WR-CALDESC:Events for Hotel Cassadaga
REFRESH-INTERVAL;VALUE=DURATION:PT1H
X-Robots-Tag:noindex
X-PUBLISHED-TTL:PT1H
BEGIN:VTIMEZONE
TZID:America/New_York
BEGIN:DAYLIGHT
TZOFFSETFROM:-0500
TZOFFSETTO:-0400
TZNAME:EDT
DTSTART:20260308T070000
END:DAYLIGHT
BEGIN:STANDARD
TZOFFSETFROM:-0400
TZOFFSETTO:-0500
TZNAME:EST
DTSTART:20261101T060000
END:STANDARD
BEGIN:DAYLIGHT
TZOFFSETFROM:-0500
TZOFFSETTO:-0400
TZNAME:EDT
DTSTART:20270314T070000
END:DAYLIGHT
BEGIN:STANDARD
TZOFFSETFROM:-0400
TZOFFSETTO:-0500
TZNAME:EST
DTSTART:20271107T060000
END:STANDARD
END:VTIMEZONE
BEGIN:VEVENT
DTSTART;TZID=America/New_York:20260101T100000
DTEND;TZID=America/New_York:20270101T170000
DTSTAMP:20260424T183024
CREATED:20251203T141022Z
LAST-MODIFIED:20251203T141022Z
UID:5952-1767261600-1798822800@hotelcassadaga.com
SUMMARY:Reading and Healing Sessions Available
DESCRIPTION:Reading and Healing Sessions are available seven days a week during business hours. Cash only. Prices are as follows: \n30 minute reading $80 \n45 minute reading $120 \n1 hour reading $160 \nHealing sessions are 45 minutes $120  1 hour: $160 \nTo book a session\, please call the front desk at 386-228-2323. We suggest that you look at our reader & healer profiles on our psychic center page and healing/wellness page and choose your reader and/or healer.
URL:https://hotelcassadaga.com/event/reading-and-healing-sessions-available-3/
END:VEVENT
BEGIN:VEVENT
DTSTART;TZID=America/New_York:20260422T170000
DTEND;TZID=America/New_York:20260425T200000
DTSTAMP:20260424T183024
CREATED:20260308T095754Z
LAST-MODIFIED:20260308T095754Z
UID:6105-1776877200-1777147200@hotelcassadaga.com
SUMMARY:Mini Readings
DESCRIPTION:10-minute readings for $25 are available in the hotel lobby from 5pm to 8pm. First come\, first serve basis. Cash only please.
URL:https://hotelcassadaga.com/event/mini-readings-176/
END:VEVENT
BEGIN:VEVENT
DTSTART;TZID=America/New_York:20260424T180000
DTEND;TZID=America/New_York:20260424T200000
DTSTAMP:20260424T183024
CREATED:20260308T084351Z
LAST-MODIFIED:20260308T084351Z
UID:6085-1777053600-1777060800@hotelcassadaga.com
SUMMARY:Ignite Your Money Candle Workshop
DESCRIPTION:Ignite Your Money Candle Workshop \nApril 24 @6-8pm \nWhat if you could turn a simple candle into a powerful symbol of your intentions for abundance? In this hands-on workshop\, taught by Valerie Harrison\, RN\, BSN Transformational Guide\, you will learn how to create a personalized money manifestation candle infused with your own energy\, intentions\, and vision for prosperity. Together we will explore how intention\, focus\, and symbolic ritual can help align your energy with the financial life you want to create. Each participant will be guided step-by-step through the process of crafting their own candle using herbs\, stones\, glitter\, and intention setting and learn the meaning behind each item used. You will leave with a candle that is uniquely yours — created with purpose and designed to serve as a reminder of the abundance you are calling into your life. All supplies included to make one candle. Please come with one financial intention or goal you would like to focus on. Cost is $40 cash and held at Hotel Cassadaga. Register in advance by calling 386-228-2323. \nFacilitated by Valerie Harrison\, RN\, BSN Transformational Guide Valerie guides others in aligning their energy\, intention\, and inner clarity to create meaningful change in their lives.
URL:https://hotelcassadaga.com/event/ignite-your-money-candle-workshop/
END:VEVENT
END:VCALENDAR